BEGIN:VCALENDAR
VERSION:2.0
PRODID:-//Minnesota Coalition of Lake Associations - ECPv6.15.20//NONSGML v1.0//EN
CALSCALE:GREGORIAN
METHOD:PUBLISH
X-ORIGINAL-URL:https://mncola.org
X-WR-CALDESC:Events for Minnesota Coalition of Lake Associations
REFRESH-INTERVAL;VALUE=DURATION:PT1H
X-Robots-Tag:noindex
X-PUBLISHED-TTL:PT1H
BEGIN:VTIMEZONE
TZID:America/Chicago
BEGIN:DAYLIGHT
TZOFFSETFROM:-0600
TZOFFSETTO:-0500
TZNAME:CDT
DTSTART:20230312T080000
END:DAYLIGHT
BEGIN:STANDARD
TZOFFSETFROM:-0500
TZOFFSETTO:-0600
TZNAME:CST
DTSTART:20231105T070000
END:STANDARD
BEGIN:DAYLIGHT
TZOFFSETFROM:-0600
TZOFFSETTO:-0500
TZNAME:CDT
DTSTART:20240310T080000
END:DAYLIGHT
BEGIN:STANDARD
TZOFFSETFROM:-0500
TZOFFSETTO:-0600
TZNAME:CST
DTSTART:20241103T070000
END:STANDARD
BEGIN:DAYLIGHT
TZOFFSETFROM:-0600
TZOFFSETTO:-0500
TZNAME:CDT
DTSTART:20250309T080000
END:DAYLIGHT
BEGIN:STANDARD
TZOFFSETFROM:-0500
TZOFFSETTO:-0600
TZNAME:CST
DTSTART:20251102T070000
END:STANDARD
END:VTIMEZONE
BEGIN:VEVENT
DTSTART;TZID=America/Chicago:20241210T090000
DTEND;TZID=America/Chicago:20241210T110000
DTSTAMP:20260421T033050
CREATED:20241014T121624Z
LAST-MODIFIED:20250112T145806Z
UID:2191-1733821200-1733828400@mncola.org
SUMMARY:MN COLA Membership Meeting - December 10th
DESCRIPTION:This will be a great meeting! \nIn the first part of our meeting we will talk about kids and why we should be focusing on them. We often direct our efforts toward adults as we work to improve some lake problem\, but we know that engaging kids in issues that impact the environment is a winning ticket. Once kids learn about something they push their parents and grandparents to change their behaviors. \nWe will kick off this discussion with DNR Commissioner Sarah Strommen\, who also has been focusing on kids with the “No Child Left Inside” program. \n \nAnd we will highlight programs for kids that are being run across Minnesota on AIS\, safe boating practices\, and more. You will have the opportunity to hear what’s being done in Hubbard County\, Stearns County\, and Itasca County. These are programs that you can bring to your COLA/LARA or your local lake/river association. Now is the time to start planning programs for the 2025 boating season! \n  \nTo round out this portion of the meeting\, we will hear from Ezri Farnum\, the President of the Koronis Lake Association. Ezri is likely the youngest lake association President in Minnesota. You can hear her story and then imagine how much energy and enthusiasm could be brought to your lake/river association by getting a younger generation involved. They have passion for protecting the water and they see opportunities with younger eyes. \nWe are very excited to bring this “focus on kids” to you! \nAnd since we just had our Statewide elections\, it is definitely the time to talking about what this means for our collective efforts to protect the public waters of Minnesota. Jeff Forester from Minnesota Lakes and Rivers Advocates will be on the agenda to talk about how the 2024 election changed the landscape in the Minnesota Legislature and how that may shape our efforts to protect the water. This is an important conversation! \nAs usual\, the meeting will be held via Zoom and registration is required. \nRegister anytime before the meeting. The Zoom link for the meeting itself will be provided following registration. You will also receive an email from Zoom with the meeting link and more details. \nAs always\, everyone welcome to attend\, so feel free to forward this meeting information.
URL:https://mncola.org/event/mn-cola-membership-meeting-december-10th/
END:VEVENT
END:VCALENDAR