BEGIN:VCALENDAR
VERSION:2.0
PRODID:-//Minnesota Coalition of Lake Associations - ECPv6.15.20//NONSGML v1.0//EN
CALSCALE:GREGORIAN
METHOD:PUBLISH
X-ORIGINAL-URL:https://mncola.org
X-WR-CALDESC:Events for Minnesota Coalition of Lake Associations
REFRESH-INTERVAL;VALUE=DURATION:PT1H
X-Robots-Tag:noindex
X-PUBLISHED-TTL:PT1H
BEGIN:VTIMEZONE
TZID:America/Chicago
BEGIN:DAYLIGHT
TZOFFSETFROM:-0600
TZOFFSETTO:-0500
TZNAME:CDT
DTSTART:20250309T080000
END:DAYLIGHT
BEGIN:STANDARD
TZOFFSETFROM:-0500
TZOFFSETTO:-0600
TZNAME:CST
DTSTART:20251102T070000
END:STANDARD
BEGIN:DAYLIGHT
TZOFFSETFROM:-0600
TZOFFSETTO:-0500
TZNAME:CDT
DTSTART:20260308T080000
END:DAYLIGHT
BEGIN:STANDARD
TZOFFSETFROM:-0500
TZOFFSETTO:-0600
TZNAME:CST
DTSTART:20261101T070000
END:STANDARD
BEGIN:DAYLIGHT
TZOFFSETFROM:-0600
TZOFFSETTO:-0500
TZNAME:CDT
DTSTART:20270314T080000
END:DAYLIGHT
BEGIN:STANDARD
TZOFFSETFROM:-0500
TZOFFSETTO:-0600
TZNAME:CST
DTSTART:20271107T070000
END:STANDARD
END:VTIMEZONE
BEGIN:VEVENT
DTSTART;TZID=America/Chicago:20261013T130000
DTEND;TZID=America/Chicago:20261013T140000
DTSTAMP:20260421T045230
CREATED:20260401T153212Z
LAST-MODIFIED:20260401T153212Z
UID:2797-1791896400-1791900000@mncola.org
SUMMARY:MGLP Lake Conservation Series: Disentangling the historical impacts of warming and fishing on exploited freshwater fish populations - October 13
DESCRIPTION:Climate warming is reshaping thermal habitats in inland lakes\, often reducing suitable conditions for cold- and cool-water species while expanding habitat for warm-water species. This shift raises an important management question: can redirecting recreational harvest pressure toward warm-water species help buffer climate-driven declines in vulnerable cooler-water fisheries? In this presentation\, Luoliang Xu will introduce this idea\, examine its management implications\, and discuss alternative science-based strategies for sustainably managing freshwater fisheries in a warming world. \nRegister here for this webinar.
URL:https://mncola.org/event/mglp-lake-conservation-series-disentangling-the-historical-impacts-of-warming-and-fishing-on-exploited-freshwater-fish-populations-october-13/
END:VEVENT
BEGIN:VEVENT
DTSTART;TZID=America/Chicago:20261020T130000
DTEND;TZID=America/Chicago:20261020T140000
DTSTAMP:20260421T045230
CREATED:20260401T153724Z
LAST-MODIFIED:20260401T153724Z
UID:2801-1792501200-1792504800@mncola.org
SUMMARY:MGLP Lake Conservation Series: Lake weeds or plant communities? Some thoughts on EWM management\, control prioritization\, and new work to nurture care and appreciation - October 20
DESCRIPTION:This presentation will start with some findings about Eurasian watermilfoil management and management prioritization – in that work\, we wanted to better understand and provide context to some of the effects of whole lake herbicide treatments we observed in survey data. From there\, we developed a model to predict lakes likely to experience future EWM introductions and lakes likely able to support dense populations. We hope that information could help guide smart prevention and smart management. More recently\, we are interested in expanding the way folks are able to think and talk about plant communities – by naming\, narrating\, and celebrating unique community assemblages\, we hope eventually to enable people to appreciate\, connect to\, and experience part of the natural world that usually remains hidden. \nRegister here for this event.
URL:https://mncola.org/event/mglp-lake-conservation-series-lake-weeds-or-plant-communities-some-thoughts-on-ewm-management-control-prioritization-and-new-work-to-nurture-care-and-appreciation-october-20/
END:VEVENT
BEGIN:VEVENT
DTSTART;TZID=America/Chicago:20261027T130000
DTEND;TZID=America/Chicago:20261027T140000
DTSTAMP:20260421T045230
CREATED:20260401T154231Z
LAST-MODIFIED:20260401T154231Z
UID:2804-1793106000-1793109600@mncola.org
SUMMARY:MGLP Lake Conservation Series: Protecting Land for Water Quality – Watershed-Based Land Conservation Strategies - October 27
DESCRIPTION:Nonpoint source (NPS) pollution\, or polluted runoff\, is the predominant cause of water quality problems in the United States. Land protection can play a critical role in protecting waters by maintaining forests\, riparian buffers\, and other critical natural areas that filter polluted runoff. Protected lands also help ensure the durability of water quality restoration by preventing new pollutant loads. Over the last several years the USEPA has worked to highlight the role of land protection as a NPS management strategy and strengthen partnership opportunities between clean water programs and land conservation community. In this webinar Steve Epting will spotlight this work and how its relevance to protecting lake ecosystem health. \nRegister here for this event.
URL:https://mncola.org/event/mglp-lake-conservation-series-protecting-land-for-water-quality-watershed-based-land-conservation-strategies-october-27/
END:VEVENT
END:VCALENDAR